BEGIN:VCALENDAR
VERSION:2.0
PRODID:-// - ECPv6.13.2.1//NONSGML v1.0//EN
CALSCALE:GREGORIAN
METHOD:PUBLISH
X-ORIGINAL-URL:https://bagls-bamberg.de
X-WR-CALDESC:Events for 
REFRESH-INTERVAL;VALUE=DURATION:PT1H
X-Robots-Tag:noindex
X-PUBLISHED-TTL:PT1H
BEGIN:VTIMEZONE
TZID:Europe/Berlin
BEGIN:DAYLIGHT
TZOFFSETFROM:+0100
TZOFFSETTO:+0200
TZNAME:CEST
DTSTART:20260329T010000
END:DAYLIGHT
BEGIN:STANDARD
TZOFFSETFROM:+0200
TZOFFSETTO:+0100
TZNAME:CET
DTSTART:20261025T010000
END:STANDARD
END:VTIMEZONE
BEGIN:VEVENT
DTSTART;TZID=Europe/Berlin:20260420T200000
DTEND;TZID=Europe/Berlin:20260420T220000
DTSTAMP:20260419T163649
CREATED:20260405T062816Z
LAST-MODIFIED:20260405T062816Z
UID:376-1776715200-1776722400@bagls-bamberg.de
SUMMARY:Kennlernplenum
DESCRIPTION:Du möchtest dich an der Uni Bamberg engagieren und die Hochschule ökologisch verträglicher und sozial gerechter gestalten? Dann bist du bei uns genau richtig🌞 Wir treffen uns am Montag um 20:00 Uhr im Grünen Büro zu einem Kennlernplenum und freuen uns\, wenn du vorbeischaust💚
URL:https://bagls-bamberg.de/kalender/kennlernplenum-2/
LOCATION:Grünes Büro\, Luitpoldstr. 53\, Bamberg\, 96050
ORGANIZER;CN="BAGLS":MAILTO:kontakt@bagls-bamberg.de
END:VEVENT
END:VCALENDAR