BEGIN:VCALENDAR
VERSION:2.0
PRODID:-// - ECPv6.13.2.1//NONSGML v1.0//EN
CALSCALE:GREGORIAN
METHOD:PUBLISH
X-ORIGINAL-URL:https://bagls-bamberg.de
X-WR-CALDESC:Events for 
REFRESH-INTERVAL;VALUE=DURATION:PT1H
X-Robots-Tag:noindex
X-PUBLISHED-TTL:PT1H
BEGIN:VTIMEZONE
TZID:Europe/Berlin
BEGIN:DAYLIGHT
TZOFFSETFROM:+0100
TZOFFSETTO:+0200
TZNAME:CEST
DTSTART:20240331T010000
END:DAYLIGHT
BEGIN:STANDARD
TZOFFSETFROM:+0200
TZOFFSETTO:+0100
TZNAME:CET
DTSTART:20241027T010000
END:STANDARD
END:VTIMEZONE
BEGIN:VEVENT
DTSTART;TZID=Europe/Berlin:20240612T190000
DTEND;TZID=Europe/Berlin:20240612T220000
DTSTAMP:20260425T125022
CREATED:20240609T095526Z
LAST-MODIFIED:20240609T100003Z
UID:186-1718218800-1718229600@bagls-bamberg.de
SUMMARY:Benefizabend
DESCRIPTION:WIR veranstalten einen Benefizabend und DU bist eingeladen\, zum zuhören und mitmachen Wir wollen gemeinsam Musik\, Kunst und Kultur genießen. Dabei möchten wir die Bühne öffnen für eure Beiträge; sei es ein Poetry Slam Text\, ein bisschen Musik alleine oder im (Akustik)ensemble oder ein anderer schöner Beitrag – der Kreativität sind keine Grenzen gesetzt\nWenn ihr euch vorstellen könnt mitzumachen\, meldet euch gerne bis zum 31.05. per Insta DM oder Email (kontakt@bagls.de) bei uns.\nWir freuen uns auf einen tollen Abend
URL:https://bagls-bamberg.de/kalender/benefizabend/
ATTACH;FMTTYPE=image/jpeg:https://bagls-bamberg.de/wp-content/uploads/2024/06/WhatsApp-Image-2024-06-05-at-12.10.23.jpeg
END:VEVENT
BEGIN:VEVENT
DTSTART;TZID=Europe/Berlin:20240611T180000
DTEND;TZID=Europe/Berlin:20240618T180000
DTSTAMP:20260425T125022
CREATED:20240610T094501Z
LAST-MODIFIED:20240610T094501Z
UID:213-1718128800-1718733600@bagls-bamberg.de
SUMMARY:Hochschulwahlen
DESCRIPTION:Es stehen wieder Wahlen an! Bei den Hochschulwahlen ist deine Stimme wichtig. Ab dem 11.06. kannst du uns BAGLS wählen.
URL:https://bagls-bamberg.de/kalender/hochschulwahlen/
END:VEVENT
BEGIN:VEVENT
DTSTART;TZID=Europe/Berlin:20240610T180000
DTEND;TZID=Europe/Berlin:20240610T200000
DTSTAMP:20260425T125022
CREATED:20240610T093601Z
LAST-MODIFIED:20240610T093601Z
UID:207-1718042400-1718049600@bagls-bamberg.de
SUMMARY:Podiumsdiskussion
DESCRIPTION:Anschließend an die Info-Messe findet auch eine Podiumsdiskussion mit kandidierenden für die einzelnen Hochschulgruppen statt.
URL:https://bagls-bamberg.de/kalender/podiumsdiskussion/
LOCATION:F21\, Feldkirchenstr. 21\, Bamberg\, 96052
END:VEVENT
BEGIN:VEVENT
DTSTART;TZID=Europe/Berlin:20240610T160000
DTEND;TZID=Europe/Berlin:20240610T180000
DTSTAMP:20260425T125022
CREATED:20240610T093453Z
LAST-MODIFIED:20240610T093453Z
UID:204-1718035200-1718042400@bagls-bamberg.de
SUMMARY:Wahl-Infomesse
DESCRIPTION:Zusammen mit den anderen hochschulpolitischen Gruppen und Fachschaften sind wir morgen auf der Infomesse zur Hochschulwahl im Hörsaal F21.01.37 in der Feki. Kommt gerne vorbei!
URL:https://bagls-bamberg.de/kalender/wahl-infomesse/
LOCATION:F21\, Feldkirchenstr. 21\, Bamberg\, 96052
END:VEVENT
END:VCALENDAR